BEGIN:VCALENDAR
VERSION:2.0
METHOD:PUBLISH
CALSCALE:GREGORIAN
PRODID:-//WordPress - MECv7.29.0//EN
X-ORIGINAL-URL:https://www.putnamlib.org/
X-WR-CALNAME:Putnam District Library
X-WR-CALDESC:Honoring the Past, Serving Today, Preparing for Tomorrow
X-WR-TIMEZONE:America/Detroit
BEGIN:VTIMEZONE
TZID:America/Detroit
X-LIC-LOCATION:America/Detroit
BEGIN:DAYLIGHT
TZOFFSETFROM:-0500
TZOFFSETTO:-0400
TZNAME:EDT
DTSTART:20260308T030000
RRULE:FREQ=YEARLY;BYMONTH=03;BYDAY=2SU
END:DAYLIGHT
BEGIN:STANDARD
TZOFFSETFROM:-0400
TZOFFSETTO:-0500
TZNAME:EST
DTSTART:20261101T010000
RRULE:FREQ=YEARLY;BYMONTH=11;BYDAY=1SU
END:STANDARD
END:VTIMEZONE
REFRESH-INTERVAL;VALUE=DURATION:PT1H
X-PUBLISHED-TTL:PT1H
X-MS-OLK-FORCEINSPECTOROPEN:TRUE
BEGIN:VEVENT
CLASS:PUBLIC
UID:MEC-c2c2a04512b35d13102459f8784f1a2d@putnamlib.org
DTSTART;TZID=America/Detroit:20260421T170000
DTEND;TZID=America/Detroit:20260421T190000
DTSTAMP:20251027T134448Z
RRULE:FREQ=WEEKLY
CREATED:20251027
LAST-MODIFIED:20260107
PRIORITY:5
SEQUENCE:7
TRANSP:OPAQUE
SUMMARY:Knitting/Needlework Circle 
DESCRIPTION:
URL:https://www.putnamlib.org/events/knitting-needlework-circle/
ATTACH;FMTTYPE=:https://www.putnamlib.org/wp-content/uploads/Needlecraft-Circle-LHP.avif
END:VEVENT
BEGIN:VEVENT
CLASS:PUBLIC
UID:MEC-311abb492a69fe7da41be858fdd2aae8@putnamlib.org
DTSTART;TZID=America/Detroit:20260420T160000
DTEND;TZID=America/Detroit:20260420T180000
DTSTAMP:20251027T132536Z
RRULE:FREQ=WEEKLY
EXDATE:20260216T210000Z
CREATED:20251027
LAST-MODIFIED:20260203
PRIORITY:5
SEQUENCE:11
TRANSP:OPAQUE
SUMMARY:Sewing Help
DESCRIPTION:
URL:https://www.putnamlib.org/events/sewing-help/
ATTACH;FMTTYPE=:https://www.putnamlib.org/wp-content/uploads/Sewing-Creations.avif
END:VEVENT
BEGIN:VEVENT
CLASS:PUBLIC
UID:MEC-4837ba5cd49c7f03caaa423049e66daf@putnamlib.org
DTSTART;TZID=America/Detroit:20260424T101500
DTEND;TZID=America/Detroit:20260424T111500
DTSTAMP:20251027T155538Z
RRULE:FREQ=WEEKLY
EXDATE:20260403T141500Z
CREATED:20251027
LAST-MODIFIED:20260326
PRIORITY:5
SEQUENCE:6
TRANSP:OPAQUE
SUMMARY:Little’s Story Time
DESCRIPTION:\nLittles Storytime meets every Friday at 10:15. Geared for age 0-5, we share books, songs and a craft. Families and older children are always welcome.\n
URL:https://www.putnamlib.org/events/littles-story-time/
CATEGORIES:Early Literacy
ATTACH;FMTTYPE=:https://www.putnamlib.org/wp-content/uploads/Little-Ones-Story-Hour-Fridays-11-am-LH.avif
END:VEVENT
BEGIN:VEVENT
CLASS:PUBLIC
UID:MEC-ab6439fa2daf0246f92eea433bca5ac4@putnamlib.org
DTSTART;TZID=America/Detroit:20260423T170000
DTEND;TZID=America/Detroit:20260423T190000
DTSTAMP:20260331T184004Z
RRULE:FREQ=WEEKLY
CREATED:20260331
LAST-MODIFIED:20260331
PRIORITY:5
SEQUENCE:1
TRANSP:OPAQUE
SUMMARY:Adult Dungeons and Dragons
DESCRIPTION:
URL:https://www.putnamlib.org/events/adult-dungeons-and-dragons/
CATEGORIES:Adults
ATTACH;FMTTYPE=:https://www.putnamlib.org/wp-content/uploads/Adult-Dungeons-and-Dragons-1200-x-675-px-1.avif
END:VEVENT
BEGIN:VEVENT
CLASS:PUBLIC
UID:MEC-d03a857a23b5285736c4d55e0bb067c8@putnamlib.org
DTSTART;TZID=America/Detroit:20260420T160000
DTEND;TZID=America/Detroit:20260420T170000
DTSTAMP:20260331T184235Z
CREATED:20260331
LAST-MODIFIED:20260331
PRIORITY:5
SEQUENCE:1
TRANSP:OPAQUE
SUMMARY:Adult Book Club
DESCRIPTION:
URL:https://www.putnamlib.org/events/adult-book-club-3/
CATEGORIES:Adults
ATTACH;FMTTYPE=:https://www.putnamlib.org/wp-content/uploads/Adult-Book-Club-1200-x-675-px-1.avif
END:VEVENT
BEGIN:VEVENT
CLASS:PUBLIC
UID:MEC-0b5e29aa1acf8bdc5d8935d7036fa4f5@putnamlib.org
DTSTART;TZID=America/Detroit:20260421T170000
DTEND;TZID=America/Detroit:20260421T180000
DTSTAMP:20260326T163400Z
CREATED:20260326
LAST-MODIFIED:20260331
PRIORITY:5
SEQUENCE:2
TRANSP:OPAQUE
SUMMARY:April Board Meeting – Annual Meeting
DESCRIPTION:\nOpen to the public.\n
URL:https://www.putnamlib.org/events/april-board-meeting-annual-meeting/
CATEGORIES:Meetings
END:VEVENT
END:VCALENDAR
